Package: PANR Version: 1.52.0 Command: /home/biocbuild/R/R/bin/R CMD check --install=check:PANR.install-out.txt --library=/home/biocbuild/R/R/site-library --no-vignettes --timings PANR_1.52.0.tar.gz StartedAt: 2025-04-01 09:16:37 -0000 (Tue, 01 Apr 2025) EndedAt: 2025-04-01 09:17:53 -0000 (Tue, 01 Apr 2025) EllapsedTime: 75.4 seconds RetCode: 0 Status: OK CheckDir: PANR.Rcheck Warnings: 0