Package: PADOG Version: 1.48.0 Command: F:\biocbuild\bbs-3.20-bioc\R\bin\R.exe CMD check --no-multiarch --install=check:PADOG.install-out.txt --library=F:\biocbuild\bbs-3.20-bioc\R\library --no-vignettes --timings PADOG_1.48.0.tar.gz StartedAt: 2025-04-01 04:23:05 -0400 (Tue, 01 Apr 2025) EndedAt: 2025-04-01 04:27:32 -0400 (Tue, 01 Apr 2025) EllapsedTime: 266.5 seconds RetCode: 0 Status: OK CheckDir: PADOG.Rcheck Warnings: 0