Package: PAA Version: 1.40.0 Command: /home/biocbuild/R/R/bin/R CMD check --install=check:PAA.install-out.txt --library=/home/biocbuild/R/R/site-library --no-vignettes --timings PAA_1.40.0.tar.gz StartedAt: 2025-04-01 09:13:53 -0000 (Tue, 01 Apr 2025) EndedAt: 2025-04-01 09:18:24 -0000 (Tue, 01 Apr 2025) EllapsedTime: 271.1 seconds RetCode: 0 Status: OK CheckDir: PAA.Rcheck Warnings: 0