Package: PAA Version: 1.40.0 Command: F:\biocbuild\bbs-3.20-bioc\R\bin\R.exe CMD INSTALL PAA StartedAt: 2025-03-31 16:45:36 -0400 (Mon, 31 Mar 2025) EndedAt: 2025-03-31 16:46:33 -0400 (Mon, 31 Mar 2025) EllapsedTime: 57.2 seconds RetCode: 0 Status: OK