Package: PAA Version: 1.40.0 Command: /home/biocbuild/bbs-3.20-bioc/R/bin/R CMD check --install=check:PAA.install-out.txt --library=/home/biocbuild/bbs-3.20-bioc/R/site-library --timings PAA_1.40.0.tar.gz StartedAt: 2025-04-01 00:43:07 -0400 (Tue, 01 Apr 2025) EndedAt: 2025-04-01 00:50:09 -0400 (Tue, 01 Apr 2025) EllapsedTime: 421.7 seconds RetCode: 0 Status: OK CheckDir: PAA.Rcheck Warnings: 0