Package: PAA Version: 1.40.0 Command: /Library/Frameworks/R.framework/Resources/bin/R CMD build --keep-empty-dirs --no-resave-data PAA StartedAt: 2025-04-01 04:48:49 -0400 (Tue, 01 Apr 2025) EndedAt: 2025-04-01 04:51:37 -0400 (Tue, 01 Apr 2025) EllapsedTime: 167.2 seconds RetCode: 0 Status: OK PackageFile: PAA_1.40.0.tar.gz PackageFileSize: 3.744 MiB