Package: OutSplice Version: 1.6.0 Command: /Library/Frameworks/R.framework/Resources/bin/R CMD build --keep-empty-dirs --no-resave-data OutSplice StartedAt: 2025-03-31 20:47:48 -0400 (Mon, 31 Mar 2025) EndedAt: 2025-03-31 20:52:39 -0400 (Mon, 31 Mar 2025) EllapsedTime: 291.3 seconds RetCode: 0 Status: OK PackageFile: OutSplice_1.6.0.tar.gz PackageFileSize: 3.862 MiB