Package: OutSplice Version: 1.6.0 Command: /Library/Frameworks/R.framework/Resources/bin/R CMD INSTALL OutSplice StartedAt: 2025-03-31 16:14:32 -0400 (Mon, 31 Mar 2025) EndedAt: 2025-03-31 16:15:12 -0400 (Mon, 31 Mar 2025) EllapsedTime: 39.6 seconds RetCode: 0 Status: OK