Package: OutSplice Version: 1.6.0 Command: /Library/Frameworks/R.framework/Resources/bin/R CMD check --install=check:OutSplice.install-out.txt --library=/Library/Frameworks/R.framework/Resources/library --no-vignettes --timings OutSplice_1.6.0.tar.gz StartedAt: 2025-04-02 03:34:28 -0400 (Wed, 02 Apr 2025) EndedAt: 2025-04-02 03:39:56 -0400 (Wed, 02 Apr 2025) EllapsedTime: 327.4 seconds RetCode: 0 Status: OK CheckDir: OutSplice.Rcheck Warnings: 0