Package: OutSplice Version: 1.6.0 Command: /Library/Frameworks/R.framework/Resources/bin/R CMD build --keep-empty-dirs --no-resave-data OutSplice StartedAt: 2025-04-01 04:47:21 -0400 (Tue, 01 Apr 2025) EndedAt: 2025-04-01 04:48:49 -0400 (Tue, 01 Apr 2025) EllapsedTime: 88.0 seconds RetCode: 0 Status: OK PackageFile: OutSplice_1.6.0.tar.gz PackageFileSize: 3.863 MiB