Package: Oscope Version: 1.36.0 Command: /Library/Frameworks/R.framework/Resources/bin/R CMD INSTALL Oscope StartedAt: 2025-03-31 16:05:07 -0400 (Mon, 31 Mar 2025) EndedAt: 2025-03-31 16:05:21 -0400 (Mon, 31 Mar 2025) EllapsedTime: 14.3 seconds RetCode: 0 Status: OK