Package: Oscope Version: 1.36.0 Command: /Library/Frameworks/R.framework/Resources/bin/R CMD INSTALL Oscope StartedAt: 2025-03-31 17:02:52 -0400 (Mon, 31 Mar 2025) EndedAt: 2025-03-31 17:03:00 -0400 (Mon, 31 Mar 2025) EllapsedTime: 8.1 seconds RetCode: 0 Status: OK