Package: OrganismDbi Version: 1.48.0 Command: /Library/Frameworks/R.framework/Resources/bin/R CMD INSTALL OrganismDbi StartedAt: 2025-03-31 16:27:17 -0400 (Mon, 31 Mar 2025) EndedAt: 2025-03-31 16:28:03 -0400 (Mon, 31 Mar 2025) EllapsedTime: 46.0 seconds RetCode: 0 Status: OK