Package: OncoSimulR Version: 4.8.0 Command: /home/biocbuild/R/R/bin/R CMD INSTALL OncoSimulR StartedAt: 2025-03-31 20:53:21 -0000 (Mon, 31 Mar 2025) EndedAt: 2025-03-31 20:57:23 -0000 (Mon, 31 Mar 2025) EllapsedTime: 241.8 seconds RetCode: 0 Status: OK