Package: OncoSimulR Version: 4.8.0 Command: /home/biocbuild/R/R/bin/R CMD build --keep-empty-dirs --no-resave-data OncoSimulR StartedAt: 2025-04-01 01:19:28 -0000 (Tue, 01 Apr 2025) EndedAt: 2025-04-01 01:27:31 -0000 (Tue, 01 Apr 2025) EllapsedTime: 483.6 seconds RetCode: 0 Status: OK PackageFile: OncoSimulR_4.8.0.tar.gz PackageFileSize: 5.183 MiB