Package: OncoSimulR Version: 4.8.0 Command: rm -rf OncoSimulR.buildbin-libdir && mkdir OncoSimulR.buildbin-libdir && F:\biocbuild\bbs-3.20-bioc\R\bin\R.exe CMD INSTALL --build --library=OncoSimulR.buildbin-libdir OncoSimulR_4.8.0.tar.gz StartedAt: 2025-04-01 08:47:58 -0400 (Tue, 01 Apr 2025) EndedAt: 2025-04-01 08:52:36 -0400 (Tue, 01 Apr 2025) EllapsedTime: 277.4 seconds RetCode: 0 Status: OK PackageFile: OncoSimulR_4.8.0.zip PackageFileSize: 4.752 MiB