Package: OncoSimulR Version: 4.8.0 Command: /Library/Frameworks/R.framework/Resources/bin/R CMD build --keep-empty-dirs --no-resave-data OncoSimulR StartedAt: 2025-03-31 20:44:02 -0400 (Mon, 31 Mar 2025) EndedAt: 2025-03-31 20:56:10 -0400 (Mon, 31 Mar 2025) EllapsedTime: 728.4 seconds RetCode: 0 Status: OK PackageFile: OncoSimulR_4.8.0.tar.gz PackageFileSize: 9.146 MiB