Package: OncoSimulR Version: 4.8.0 Command: rm -rf OncoSimulR.buildbin-libdir && mkdir OncoSimulR.buildbin-libdir && /Users/biocbuild/BBS/utils/build-universal.sh OncoSimulR_4.8.0.tar.gz /Library/Frameworks/R.framework/Resources/bin/R OncoSimulR.buildbin-libdir StartedAt: 2025-04-01 12:24:03 -0400 (Tue, 01 Apr 2025) EndedAt: 2025-04-01 12:28:36 -0400 (Tue, 01 Apr 2025) EllapsedTime: 273.2 seconds RetCode: 0 Status: OK PackageFile: OncoSimulR_4.8.0.tgz PackageFileSize: 9.543 MiB