Package: OmnipathR Version: 3.14.0 Command: /Library/Frameworks/R.framework/Resources/bin/R CMD check --install=check:OmnipathR.install-out.txt --library=/Library/Frameworks/R.framework/Resources/library --no-vignettes --timings OmnipathR_3.14.0.tar.gz StartedAt: 2025-04-02 03:14:16 -0400 (Wed, 02 Apr 2025) EndedAt: 2025-04-02 03:31:20 -0400 (Wed, 02 Apr 2025) EllapsedTime: 1023.8 seconds RetCode: 0 Status: OK CheckDir: OmnipathR.Rcheck Warnings: 0