Package: OmnipathR Version: 3.14.0 Command: /Library/Frameworks/R.framework/Resources/bin/R CMD build --keep-empty-dirs --no-resave-data OmnipathR StartedAt: 2025-04-01 04:34:47 -0400 (Tue, 01 Apr 2025) EndedAt: 2025-04-01 04:43:45 -0400 (Tue, 01 Apr 2025) EllapsedTime: 537.8 seconds RetCode: 0 Status: OK PackageFile: OmnipathR_3.14.0.tar.gz PackageFileSize: 3.605 MiB