Package: OmicsMLRepoR Version: 1.0.0 Command: /home/biocbuild/bbs-3.20-bioc/R/bin/R CMD build --keep-empty-dirs --no-resave-data --md5 OmicsMLRepoR StartedAt: 2025-03-31 18:22:03 -0400 (Mon, 31 Mar 2025) EndedAt: 2025-03-31 18:23:50 -0400 (Mon, 31 Mar 2025) EllapsedTime: 107.1 seconds RetCode: 0 Status: OK PackageFile: OmicsMLRepoR_1.0.0.tar.gz PackageFileSize: 427.6 KiB