Package: OmicCircos Version: 1.44.0 Command: /home/biocbuild/R/R/bin/R CMD INSTALL OmicCircos StartedAt: 2025-03-31 20:21:40 -0000 (Mon, 31 Mar 2025) EndedAt: 2025-03-31 20:21:56 -0000 (Mon, 31 Mar 2025) EllapsedTime: 16.2 seconds RetCode: 0 Status: OK