Package: OmicCircos Version: 1.44.0 Command: F:\biocbuild\bbs-3.20-bioc\R\bin\R.exe CMD INSTALL OmicCircos StartedAt: 2025-03-31 15:44:38 -0400 (Mon, 31 Mar 2025) EndedAt: 2025-03-31 15:45:04 -0400 (Mon, 31 Mar 2025) EllapsedTime: 25.5 seconds RetCode: 0 Status: OK