Package: OmicCircos Version: 1.44.0 Command: rm -rf OmicCircos.buildbin-libdir && mkdir OmicCircos.buildbin-libdir && /Users/biocbuild/BBS/utils/build-universal.sh OmicCircos_1.44.0.tar.gz /Library/Frameworks/R.framework/Resources/bin/R OmicCircos.buildbin-libdir StartedAt: 2025-04-01 12:23:29 -0400 (Tue, 01 Apr 2025) EndedAt: 2025-04-01 12:23:59 -0400 (Tue, 01 Apr 2025) EllapsedTime: 29.1 seconds RetCode: 0 Status: OK PackageFile: OmicCircos_1.44.0.tgz PackageFileSize: 5.067 MiB