Package: OmaDB Version: 2.22.0 Command: chmod a+r OmaDB -R && F:\biocbuild\bbs-3.20-bioc\R\bin\R.exe CMD build --keep-empty-dirs --no-resave-data OmaDB StartedAt: 2025-03-31 20:40:26 -0400 (Mon, 31 Mar 2025) EndedAt: 2025-03-31 20:41:03 -0400 (Mon, 31 Mar 2025) EllapsedTime: 37.4 seconds RetCode: 0 Status: OK PackageFile: OmaDB_2.22.0.tar.gz PackageFileSize: 98.32 KiB