Package: OmaDB Version: 2.22.0 Command: rm -rf OmaDB.buildbin-libdir && mkdir OmaDB.buildbin-libdir && F:\biocbuild\bbs-3.20-bioc\R\bin\R.exe CMD INSTALL --build --library=OmaDB.buildbin-libdir OmaDB_2.22.0.tar.gz StartedAt: 2025-04-01 08:47:16 -0400 (Tue, 01 Apr 2025) EndedAt: 2025-04-01 08:47:50 -0400 (Tue, 01 Apr 2025) EllapsedTime: 34.0 seconds RetCode: 0 Status: OK PackageFile: OmaDB_2.22.0.zip PackageFileSize: 195.1 KiB