Package: OmaDB Version: 2.22.0 Command: /Library/Frameworks/R.framework/Resources/bin/R CMD check --install=check:OmaDB.install-out.txt --library=/Library/Frameworks/R.framework/Resources/library --no-vignettes --timings OmaDB_2.22.0.tar.gz StartedAt: 2025-04-02 03:05:50 -0400 (Wed, 02 Apr 2025) EndedAt: 2025-04-02 03:13:33 -0400 (Wed, 02 Apr 2025) EllapsedTime: 462.8 seconds RetCode: 0 Status: OK CheckDir: OmaDB.Rcheck Warnings: 0