Package: OmaDB Version: 2.22.0 Command: /Library/Frameworks/R.framework/Resources/bin/R CMD build --keep-empty-dirs --no-resave-data OmaDB StartedAt: 2025-04-01 04:31:16 -0400 (Tue, 01 Apr 2025) EndedAt: 2025-04-01 04:31:44 -0400 (Tue, 01 Apr 2025) EllapsedTime: 28.6 seconds RetCode: 0 Status: OK PackageFile: OmaDB_2.22.0.tar.gz PackageFileSize: 98.18 KiB