Package: OUTRIDER Version: 1.24.0 Command: /home/biocbuild/R/R/bin/R CMD build --keep-empty-dirs --no-resave-data OUTRIDER StartedAt: 2025-04-01 01:22:55 -0000 (Tue, 01 Apr 2025) EndedAt: 2025-04-01 01:30:05 -0000 (Tue, 01 Apr 2025) EllapsedTime: 430.4 seconds RetCode: 0 Status: OK PackageFile: OUTRIDER_1.24.0.tar.gz PackageFileSize: 1.933 MiB