Package: OUTRIDER Version: 1.24.0 Command: /Library/Frameworks/R.framework/Resources/bin/R CMD check --install=check:OUTRIDER.install-out.txt --library=/Library/Frameworks/R.framework/Resources/library --no-vignettes --timings OUTRIDER_1.24.0.tar.gz StartedAt: 2025-04-01 06:49:36 -0400 (Tue, 01 Apr 2025) EndedAt: 2025-04-01 07:05:48 -0400 (Tue, 01 Apr 2025) EllapsedTime: 972.2 seconds RetCode: 0 Status: OK CheckDir: OUTRIDER.Rcheck Warnings: 0