Package: OUTRIDER Version: 1.24.0 Command: rm -rf OUTRIDER.buildbin-libdir && mkdir OUTRIDER.buildbin-libdir && /Users/biocbuild/BBS/utils/build-universal.sh OUTRIDER_1.24.0.tar.gz /Library/Frameworks/R.framework/Resources/bin/R OUTRIDER.buildbin-libdir StartedAt: 2025-04-01 12:25:03 -0400 (Tue, 01 Apr 2025) EndedAt: 2025-04-01 12:27:11 -0400 (Tue, 01 Apr 2025) EllapsedTime: 128.0 seconds RetCode: 0 Status: OK PackageFile: OUTRIDER_1.24.0.tgz PackageFileSize: 2.579 MiB