Package: OUTRIDER Version: 1.24.0 Command: /Library/Frameworks/R.framework/Resources/bin/R CMD check --install=check:OUTRIDER.install-out.txt --library=/Library/Frameworks/R.framework/Resources/library --no-vignettes --timings OUTRIDER_1.24.0.tar.gz StartedAt: 2025-04-02 03:33:19 -0400 (Wed, 02 Apr 2025) EndedAt: 2025-04-02 03:41:13 -0400 (Wed, 02 Apr 2025) EllapsedTime: 473.6 seconds RetCode: 0 Status: OK CheckDir: OUTRIDER.Rcheck Warnings: 0