Package: OUTRIDER Version: 1.24.0 Command: /Library/Frameworks/R.framework/Resources/bin/R CMD build --keep-empty-dirs --no-resave-data OUTRIDER StartedAt: 2025-04-01 04:46:50 -0400 (Tue, 01 Apr 2025) EndedAt: 2025-04-01 04:54:29 -0400 (Tue, 01 Apr 2025) EllapsedTime: 459.3 seconds RetCode: 0 Status: OK PackageFile: OUTRIDER_1.24.0.tar.gz PackageFileSize: 2.495 MiB