Package: OTUbase Version: 1.56.0 Command: /home/biocbuild/R/R/bin/R CMD INSTALL OTUbase StartedAt: 2025-03-31 20:36:34 -0000 (Mon, 31 Mar 2025) EndedAt: 2025-03-31 20:37:13 -0000 (Mon, 31 Mar 2025) EllapsedTime: 39.4 seconds RetCode: 0 Status: OK