Package: OTUbase Version: 1.56.0 Command: /Library/Frameworks/R.framework/Resources/bin/R CMD check --install=check:OTUbase.install-out.txt --library=/Library/Frameworks/R.framework/Resources/library --no-vignettes --timings OTUbase_1.56.0.tar.gz StartedAt: 2025-04-01 06:49:04 -0400 (Tue, 01 Apr 2025) EndedAt: 2025-04-01 06:57:20 -0400 (Tue, 01 Apr 2025) EllapsedTime: 496.1 seconds RetCode: 0 Status: OK CheckDir: OTUbase.Rcheck Warnings: 0