Package: OSAT Version: 1.54.0 Command: /home/biocbuild/R/R/bin/R CMD check --install=check:OSAT.install-out.txt --library=/home/biocbuild/R/R/site-library --no-vignettes --timings OSAT_1.54.0.tar.gz StartedAt: 2025-04-01 09:11:54 -0000 (Tue, 01 Apr 2025) EndedAt: 2025-04-01 09:12:30 -0000 (Tue, 01 Apr 2025) EllapsedTime: 36.1 seconds RetCode: 0 Status: OK CheckDir: OSAT.Rcheck Warnings: 0