Package: OSAT Version: 1.54.0 Command: /home/biocbuild/R/R/bin/R CMD build --keep-empty-dirs --no-resave-data OSAT StartedAt: 2025-04-01 01:22:44 -0000 (Tue, 01 Apr 2025) EndedAt: 2025-04-01 01:23:40 -0000 (Tue, 01 Apr 2025) EllapsedTime: 56.1 seconds RetCode: 0 Status: OK PackageFile: OSAT_1.54.0.tar.gz PackageFileSize: 952.6 KiB