Package: OSAT Version: 1.54.0 Command: /Library/Frameworks/R.framework/Resources/bin/R CMD check --install=check:OSAT.install-out.txt --library=/Library/Frameworks/R.framework/Resources/library --no-vignettes --timings OSAT_1.54.0.tar.gz StartedAt: 2025-04-02 03:31:20 -0400 (Wed, 02 Apr 2025) EndedAt: 2025-04-02 03:31:52 -0400 (Wed, 02 Apr 2025) EllapsedTime: 32.5 seconds RetCode: 0 Status: OK CheckDir: OSAT.Rcheck Warnings: 0