Package: ORFik Version: 1.26.2 Command: chmod a+r ORFik -R && F:\biocbuild\bbs-3.20-bioc\R\bin\R.exe CMD build --keep-empty-dirs --no-resave-data ORFik StartedAt: 2025-03-31 20:45:14 -0400 (Mon, 31 Mar 2025) EndedAt: 2025-03-31 20:54:56 -0400 (Mon, 31 Mar 2025) EllapsedTime: 582.0 seconds RetCode: 0 Status: OK PackageFile: ORFik_1.26.2.tar.gz PackageFileSize: 3.195 MiB