Package: ORFik Version: 1.26.2 Command: /Library/Frameworks/R.framework/Resources/bin/R CMD check --install=check:ORFik.install-out.txt --library=/Library/Frameworks/R.framework/Resources/library --no-vignettes --timings ORFik_1.26.2.tar.gz StartedAt: 2025-04-01 06:46:14 -0400 (Tue, 01 Apr 2025) EndedAt: 2025-04-01 07:07:51 -0400 (Tue, 01 Apr 2025) EllapsedTime: 1297.7 seconds RetCode: 0 Status: OK CheckDir: ORFik.Rcheck Warnings: 0