Package: ORFik Version: 1.26.2 Command: /Library/Frameworks/R.framework/Resources/bin/R CMD build --keep-empty-dirs --no-resave-data ORFik StartedAt: 2025-03-31 20:46:03 -0400 (Mon, 31 Mar 2025) EndedAt: 2025-03-31 20:57:43 -0400 (Mon, 31 Mar 2025) EllapsedTime: 700.2 seconds RetCode: 0 Status: OK PackageFile: ORFik_1.26.2.tar.gz PackageFileSize: 3.918 MiB