Package: ORFik Version: 1.26.2 Command: /Library/Frameworks/R.framework/Resources/bin/R CMD INSTALL ORFik StartedAt: 2025-03-31 16:31:41 -0400 (Mon, 31 Mar 2025) EndedAt: 2025-03-31 16:32:25 -0400 (Mon, 31 Mar 2025) EllapsedTime: 44.2 seconds RetCode: 0 Status: OK