Package: ORFik Version: 1.26.2 Command: /Library/Frameworks/R.framework/Resources/bin/R CMD check --install=check:ORFik.install-out.txt --library=/Library/Frameworks/R.framework/Resources/library --no-vignettes --timings ORFik_1.26.2.tar.gz StartedAt: 2025-04-02 03:25:38 -0400 (Wed, 02 Apr 2025) EndedAt: 2025-04-02 03:36:05 -0400 (Wed, 02 Apr 2025) EllapsedTime: 626.4 seconds RetCode: 0 Status: OK CheckDir: ORFik.Rcheck Warnings: 0