Package: ORFik Version: 1.26.2 Command: rm -rf ORFik.buildbin-libdir && mkdir ORFik.buildbin-libdir && /Users/biocbuild/BBS/utils/build-universal.sh ORFik_1.26.2.tar.gz /Library/Frameworks/R.framework/Resources/bin/R ORFik.buildbin-libdir StartedAt: 2025-04-02 15:32:53 -0400 (Wed, 02 Apr 2025) EndedAt: 2025-04-02 15:34:24 -0400 (Wed, 02 Apr 2025) EllapsedTime: 91.1 seconds RetCode: 0 Status: OK PackageFile: ORFik_1.26.2.tgz PackageFileSize: 5.562 MiB