Package: ORFhunteR Version: 1.14.0 Command: /home/biocbuild/bbs-3.20-bioc/R/bin/R CMD INSTALL ORFhunteR StartedAt: 2025-03-31 15:26:31 -0400 (Mon, 31 Mar 2025) EndedAt: 2025-03-31 15:27:12 -0400 (Mon, 31 Mar 2025) EllapsedTime: 41.0 seconds RetCode: 0 Status: OK