Package: OPWeight Version: 1.28.0 Command: /Library/Frameworks/R.framework/Resources/bin/R CMD check --install=check:OPWeight.install-out.txt --library=/Library/Frameworks/R.framework/Resources/library --no-vignettes --timings OPWeight_1.28.0.tar.gz StartedAt: 2025-04-01 06:44:34 -0400 (Tue, 01 Apr 2025) EndedAt: 2025-04-01 06:46:03 -0400 (Tue, 01 Apr 2025) EllapsedTime: 88.7 seconds RetCode: 0 Status: OK CheckDir: OPWeight.Rcheck Warnings: 0