Package: OPWeight Version: 1.28.0 Command: /Library/Frameworks/R.framework/Resources/bin/R CMD check --install=check:OPWeight.install-out.txt --library=/Library/Frameworks/R.framework/Resources/library --no-vignettes --timings OPWeight_1.28.0.tar.gz StartedAt: 2025-04-02 03:24:11 -0400 (Wed, 02 Apr 2025) EndedAt: 2025-04-02 03:25:04 -0400 (Wed, 02 Apr 2025) EllapsedTime: 52.7 seconds RetCode: 0 Status: OK CheckDir: OPWeight.Rcheck Warnings: 0