Package: OMICsPCA Version: 1.24.0 Command: /home/biocbuild/R/R/bin/R CMD INSTALL OMICsPCA StartedAt: 2025-03-31 21:10:15 -0000 (Mon, 31 Mar 2025) EndedAt: 2025-03-31 21:11:16 -0000 (Mon, 31 Mar 2025) EllapsedTime: 61.0 seconds RetCode: 0 Status: OK