Package: OMICsPCA Version: 1.24.0 Command: /home/biocbuild/R/R/bin/R CMD check --install=check:OMICsPCA.install-out.txt --library=/home/biocbuild/R/R/site-library --no-vignettes --timings OMICsPCA_1.24.0.tar.gz StartedAt: 2025-04-01 09:05:18 -0000 (Tue, 01 Apr 2025) EndedAt: 2025-04-01 09:13:00 -0000 (Tue, 01 Apr 2025) EllapsedTime: 462.7 seconds RetCode: 0 Status: WARNINGS CheckDir: OMICsPCA.Rcheck Warnings: 1