Package: OMICsPCA Version: 1.24.0 Command: F:\biocbuild\bbs-3.20-bioc\R\bin\R.exe CMD check --no-multiarch --install=check:OMICsPCA.install-out.txt --library=F:\biocbuild\bbs-3.20-bioc\R\library --no-vignettes --timings OMICsPCA_1.24.0.tar.gz StartedAt: 2025-04-01 04:13:40 -0400 (Tue, 01 Apr 2025) EndedAt: 2025-04-01 04:21:12 -0400 (Tue, 01 Apr 2025) EllapsedTime: 451.7 seconds RetCode: 0 Status: OK CheckDir: OMICsPCA.Rcheck Warnings: 0